BEGIN:VCALENDAR
VERSION:2.0
PRODID:-//Lonnie Poole Golf Course - ECPv6.15.20//NONSGML v1.0//EN
CALSCALE:GREGORIAN
METHOD:PUBLISH
X-ORIGINAL-URL:https://lonniepoolegolfcourse.com
X-WR-CALDESC:Events for Lonnie Poole Golf Course
REFRESH-INTERVAL;VALUE=DURATION:PT1H
X-Robots-Tag:noindex
X-PUBLISHED-TTL:PT1H
BEGIN:VTIMEZONE
TZID:America/New_York
BEGIN:DAYLIGHT
TZOFFSETFROM:-0500
TZOFFSETTO:-0400
TZNAME:EDT
DTSTART:20190310T070000
END:DAYLIGHT
BEGIN:STANDARD
TZOFFSETFROM:-0400
TZOFFSETTO:-0500
TZNAME:EST
DTSTART:20191103T060000
END:STANDARD
BEGIN:DAYLIGHT
TZOFFSETFROM:-0500
TZOFFSETTO:-0400
TZNAME:EDT
DTSTART:20200308T070000
END:DAYLIGHT
BEGIN:STANDARD
TZOFFSETFROM:-0400
TZOFFSETTO:-0500
TZNAME:EST
DTSTART:20201101T060000
END:STANDARD
BEGIN:DAYLIGHT
TZOFFSETFROM:-0500
TZOFFSETTO:-0400
TZNAME:EDT
DTSTART:20210314T070000
END:DAYLIGHT
BEGIN:STANDARD
TZOFFSETFROM:-0400
TZOFFSETTO:-0500
TZNAME:EST
DTSTART:20211107T060000
END:STANDARD
END:VTIMEZONE
BEGIN:VEVENT
DTSTART;TZID=America/New_York:20200930T080000
DTEND;TZID=America/New_York:20200930T123000
DTSTAMP:20260423T051544
CREATED:20200930T111359Z
LAST-MODIFIED:20200930T111359Z
UID:10000773-1601452800-1601469000@lonniepoolegolfcourse.com
SUMMARY:ASCE
DESCRIPTION:The golf course will host ASCE in the morning with public tee times available in the afternoon.
URL:https://lonniepoolegolfcourse.com/event/asce/
END:VEVENT
BEGIN:VEVENT
DTSTART;TZID=America/New_York:20200930T160000
DTEND;TZID=America/New_York:20200930T183000
DTSTAMP:20260423T051544
CREATED:20200921T120213Z
LAST-MODIFIED:20200921T120213Z
UID:10000748-1601481600-1601490600@lonniepoolegolfcourse.com
SUMMARY:Lonnie Poole Little League
DESCRIPTION:Junior Practice 4pm-630pm. Practice Tee will be limited access.
URL:https://lonniepoolegolfcourse.com/event/lonnie-poole-little-league/2020-09-30/
END:VEVENT
END:VCALENDAR