BEGIN:VCALENDAR
VERSION:2.0
PRODID:-//Lonnie Poole Golf Course - ECPv6.15.20//NONSGML v1.0//EN
CALSCALE:GREGORIAN
METHOD:PUBLISH
X-WR-CALNAME:Lonnie Poole Golf Course
X-ORIGINAL-URL:https://lonniepoolegolfcourse.com
X-WR-CALDESC:Events for Lonnie Poole Golf Course
REFRESH-INTERVAL;VALUE=DURATION:PT1H
X-Robots-Tag:noindex
X-PUBLISHED-TTL:PT1H
BEGIN:VTIMEZONE
TZID:America/New_York
BEGIN:DAYLIGHT
TZOFFSETFROM:-0500
TZOFFSETTO:-0400
TZNAME:EDT
DTSTART:20190310T070000
END:DAYLIGHT
BEGIN:STANDARD
TZOFFSETFROM:-0400
TZOFFSETTO:-0500
TZNAME:EST
DTSTART:20191103T060000
END:STANDARD
BEGIN:DAYLIGHT
TZOFFSETFROM:-0500
TZOFFSETTO:-0400
TZNAME:EDT
DTSTART:20200308T070000
END:DAYLIGHT
BEGIN:STANDARD
TZOFFSETFROM:-0400
TZOFFSETTO:-0500
TZNAME:EST
DTSTART:20201101T060000
END:STANDARD
BEGIN:DAYLIGHT
TZOFFSETFROM:-0500
TZOFFSETTO:-0400
TZNAME:EDT
DTSTART:20210314T070000
END:DAYLIGHT
BEGIN:STANDARD
TZOFFSETFROM:-0400
TZOFFSETTO:-0500
TZNAME:EST
DTSTART:20211107T060000
END:STANDARD
END:VTIMEZONE
BEGIN:VEVENT
DTSTART;TZID=America/New_York:20201005T103000
DTEND;TZID=America/New_York:20201005T153000
DTSTAMP:20260423T072911
CREATED:20200128T132808Z
LAST-MODIFIED:20200128T132808Z
UID:10000854-1601893800-1601911800@lonniepoolegolfcourse.com
SUMMARY:Mabopane Foundation
DESCRIPTION:The golf course will be closed to host Mabopane Foundation
URL:https://lonniepoolegolfcourse.com/event/mabopane-foundation/
END:VEVENT
BEGIN:VEVENT
DTSTART;TZID=America/New_York:20201005T160000
DTEND;TZID=America/New_York:20201005T183000
DTSTAMP:20260423T072911
CREATED:20200921T120213Z
LAST-MODIFIED:20200921T120213Z
UID:10000751-1601913600-1601922600@lonniepoolegolfcourse.com
SUMMARY:Lonnie Poole Little League
DESCRIPTION:Junior Practice 4pm-630pm. Practice Tee will be limited access.
URL:https://lonniepoolegolfcourse.com/event/lonnie-poole-little-league/2020-10-05/
END:VEVENT
BEGIN:VEVENT
DTSTART;TZID=America/New_York:20201005T170000
DTEND;TZID=America/New_York:20201005T170000
DTSTAMP:20260423T072911
CREATED:20200229T145115Z
LAST-MODIFIED:20200312T165006Z
UID:10000692-1601917200-1601917200@lonniepoolegolfcourse.com
SUMMARY:Clean Pick - Practice Tee Closing Early
DESCRIPTION:The practice tee will close early to complete clean pick maintenance. Please call the golf shop for last ball sold information.
URL:https://lonniepoolegolfcourse.com/event/clean-pick-practice-closing-early/2020-10-05/
END:VEVENT
END:VCALENDAR