BEGIN:VCALENDAR
VERSION:2.0
PRODID:-//Lonnie Poole Golf Course - ECPv6.15.20//NONSGML v1.0//EN
CALSCALE:GREGORIAN
METHOD:PUBLISH
X-ORIGINAL-URL:https://lonniepoolegolfcourse.com
X-WR-CALDESC:Events for Lonnie Poole Golf Course
REFRESH-INTERVAL;VALUE=DURATION:PT1H
X-Robots-Tag:noindex
X-PUBLISHED-TTL:PT1H
BEGIN:VTIMEZONE
TZID:America/New_York
BEGIN:DAYLIGHT
TZOFFSETFROM:-0500
TZOFFSETTO:-0400
TZNAME:EDT
DTSTART:20200308T070000
END:DAYLIGHT
BEGIN:STANDARD
TZOFFSETFROM:-0400
TZOFFSETTO:-0500
TZNAME:EST
DTSTART:20201101T060000
END:STANDARD
BEGIN:DAYLIGHT
TZOFFSETFROM:-0500
TZOFFSETTO:-0400
TZNAME:EDT
DTSTART:20210314T070000
END:DAYLIGHT
BEGIN:STANDARD
TZOFFSETFROM:-0400
TZOFFSETTO:-0500
TZNAME:EST
DTSTART:20211107T060000
END:STANDARD
BEGIN:DAYLIGHT
TZOFFSETFROM:-0500
TZOFFSETTO:-0400
TZNAME:EDT
DTSTART:20220313T070000
END:DAYLIGHT
BEGIN:STANDARD
TZOFFSETFROM:-0400
TZOFFSETTO:-0500
TZNAME:EST
DTSTART:20221106T060000
END:STANDARD
END:VTIMEZONE
BEGIN:VEVENT
DTSTART;VALUE=DATE:20211101
DTEND;VALUE=DATE:20211102
DTSTAMP:20260421T012212
CREATED:20210908T112454Z
LAST-MODIFIED:20211017T113738Z
UID:10000927-1635724800-1635811199@lonniepoolegolfcourse.com
SUMMARY:Family Legacy Financial Solutions Golf Tournament
DESCRIPTION:The golf course and practice facilities will be closed all day to host a private event. \n  \nFamily Legacy Financial Solutions is proud to announce their First Annual Charity Golf Tournament and Benefit Dinner. Join us for a 12:00 shotgun start\, followed by a buffet dinner in the Terrace Dining Room. This event is open to the public\, and there is no charge to sign up. Feel free to register a foursome\, or we will place you on an existing team. Reach out to Eliza Meadows at eliza@familylegacync.com with any questions. \nhttps://www.familylegacync.com/event-details/golf-tournament-benefit-dinner
URL:https://lonniepoolegolfcourse.com/event/family-legacy-foundation-golf-tournament/
END:VEVENT
END:VCALENDAR