BEGIN:VCALENDAR
VERSION:2.0
PRODID:-//Lonnie Poole Golf Course - ECPv6.15.20//NONSGML v1.0//EN
CALSCALE:GREGORIAN
METHOD:PUBLISH
X-ORIGINAL-URL:https://lonniepoolegolfcourse.com
X-WR-CALDESC:Events for Lonnie Poole Golf Course
REFRESH-INTERVAL;VALUE=DURATION:PT1H
X-Robots-Tag:noindex
X-PUBLISHED-TTL:PT1H
BEGIN:VTIMEZONE
TZID:America/New_York
BEGIN:DAYLIGHT
TZOFFSETFROM:-0500
TZOFFSETTO:-0400
TZNAME:EDT
DTSTART:20170312T070000
END:DAYLIGHT
BEGIN:STANDARD
TZOFFSETFROM:-0400
TZOFFSETTO:-0500
TZNAME:EST
DTSTART:20171105T060000
END:STANDARD
BEGIN:DAYLIGHT
TZOFFSETFROM:-0500
TZOFFSETTO:-0400
TZNAME:EDT
DTSTART:20180311T070000
END:DAYLIGHT
BEGIN:STANDARD
TZOFFSETFROM:-0400
TZOFFSETTO:-0500
TZNAME:EST
DTSTART:20181104T060000
END:STANDARD
BEGIN:DAYLIGHT
TZOFFSETFROM:-0500
TZOFFSETTO:-0400
TZNAME:EDT
DTSTART:20190310T070000
END:DAYLIGHT
BEGIN:STANDARD
TZOFFSETFROM:-0400
TZOFFSETTO:-0500
TZNAME:EST
DTSTART:20191103T060000
END:STANDARD
END:VTIMEZONE
BEGIN:VEVENT
DTSTART;TZID=America/New_York:20180615T090000
DTEND;TZID=America/New_York:20180615T150000
DTSTAMP:20260420T221432
CREATED:20180603T151236Z
LAST-MODIFIED:20180603T152643Z
UID:10000575-1529053200-1529074800@lonniepoolegolfcourse.com
SUMMARY:Holly Hill Hospital Golf Tournament
DESCRIPTION:
URL:https://lonniepoolegolfcourse.com/event/holly-hill-hospital-golf-tournament/
CATEGORIES:Event
END:VEVENT
BEGIN:VEVENT
DTSTART;TZID=America/New_York:20180611T100000
DTEND;TZID=America/New_York:20180611T160000
DTSTAMP:20260420T221432
CREATED:20180603T151142Z
LAST-MODIFIED:20180603T152655Z
UID:10000574-1528711200-1528732800@lonniepoolegolfcourse.com
SUMMARY:CGA One-Time
DESCRIPTION:
URL:https://lonniepoolegolfcourse.com/event/cga-one-time/
CATEGORIES:Event
END:VEVENT
END:VCALENDAR