BEGIN:VCALENDAR
VERSION:2.0
PRODID:-//Lonnie Poole Golf Course - ECPv6.15.20//NONSGML v1.0//EN
CALSCALE:GREGORIAN
METHOD:PUBLISH
X-WR-CALNAME:Lonnie Poole Golf Course
X-ORIGINAL-URL:https://lonniepoolegolfcourse.com
X-WR-CALDESC:Events for Lonnie Poole Golf Course
REFRESH-INTERVAL;VALUE=DURATION:PT1H
X-Robots-Tag:noindex
X-PUBLISHED-TTL:PT1H
BEGIN:VTIMEZONE
TZID:America/New_York
BEGIN:DAYLIGHT
TZOFFSETFROM:-0500
TZOFFSETTO:-0400
TZNAME:EDT
DTSTART:20170312T070000
END:DAYLIGHT
BEGIN:STANDARD
TZOFFSETFROM:-0400
TZOFFSETTO:-0500
TZNAME:EST
DTSTART:20171105T060000
END:STANDARD
BEGIN:DAYLIGHT
TZOFFSETFROM:-0500
TZOFFSETTO:-0400
TZNAME:EDT
DTSTART:20180311T070000
END:DAYLIGHT
BEGIN:STANDARD
TZOFFSETFROM:-0400
TZOFFSETTO:-0500
TZNAME:EST
DTSTART:20181104T060000
END:STANDARD
BEGIN:DAYLIGHT
TZOFFSETFROM:-0500
TZOFFSETTO:-0400
TZNAME:EDT
DTSTART:20190310T070000
END:DAYLIGHT
BEGIN:STANDARD
TZOFFSETFROM:-0400
TZOFFSETTO:-0500
TZNAME:EST
DTSTART:20191103T060000
END:STANDARD
END:VTIMEZONE
BEGIN:VEVENT
DTSTART;VALUE=DATE:20180603
DTEND;VALUE=DATE:20180604
DTSTAMP:20260420T024512
CREATED:20180603T152150Z
LAST-MODIFIED:20180603T152723Z
UID:10000591-1527984000-1528070399@lonniepoolegolfcourse.com
SUMMARY:Practice Facilities Availability
DESCRIPTION:Due to a private event at Lonnie Poole Golf Course\, the Practice Tee and Putting Green will be CLOSED until 10:00 AM.  The Short Game Practice Area will be CLOSED until the completion of the event.
URL:https://lonniepoolegolfcourse.com/event/practice-facilities-availability-6/
CATEGORIES:Practice Facilities Availability
END:VEVENT
BEGIN:VEVENT
DTSTART;VALUE=DATE:20180531
DTEND;VALUE=DATE:20180609
DTSTAMP:20260420T024512
CREATED:20180603T150841Z
LAST-MODIFIED:20180603T152708Z
UID:10000572-1527724800-1528502399@lonniepoolegolfcourse.com
SUMMARY:Greens Aeration Healing Period (Reduced GFs Rate)
DESCRIPTION:Reduced greens fee rates apply.
URL:https://lonniepoolegolfcourse.com/event/greens-aeration-healing-period-reduced-gfs-rate/
CATEGORIES:Maintenance
END:VEVENT
END:VCALENDAR