BEGIN:VCALENDAR
VERSION:2.0
PRODID:-//Lonnie Poole Golf Course - ECPv6.15.20//NONSGML v1.0//EN
CALSCALE:GREGORIAN
METHOD:PUBLISH
X-WR-CALNAME:Lonnie Poole Golf Course
X-ORIGINAL-URL:https://lonniepoolegolfcourse.com
X-WR-CALDESC:Events for Lonnie Poole Golf Course
REFRESH-INTERVAL;VALUE=DURATION:PT1H
X-Robots-Tag:noindex
X-PUBLISHED-TTL:PT1H
BEGIN:VTIMEZONE
TZID:America/New_York
BEGIN:DAYLIGHT
TZOFFSETFROM:-0500
TZOFFSETTO:-0400
TZNAME:EDT
DTSTART:20230312T070000
END:DAYLIGHT
BEGIN:STANDARD
TZOFFSETFROM:-0400
TZOFFSETTO:-0500
TZNAME:EST
DTSTART:20231105T060000
END:STANDARD
BEGIN:DAYLIGHT
TZOFFSETFROM:-0500
TZOFFSETTO:-0400
TZNAME:EDT
DTSTART:20240310T070000
END:DAYLIGHT
BEGIN:STANDARD
TZOFFSETFROM:-0400
TZOFFSETTO:-0500
TZNAME:EST
DTSTART:20241103T060000
END:STANDARD
BEGIN:DAYLIGHT
TZOFFSETFROM:-0500
TZOFFSETTO:-0400
TZNAME:EDT
DTSTART:20250309T070000
END:DAYLIGHT
BEGIN:STANDARD
TZOFFSETFROM:-0400
TZOFFSETTO:-0500
TZNAME:EST
DTSTART:20251102T060000
END:STANDARD
BEGIN:DAYLIGHT
TZOFFSETFROM:-0500
TZOFFSETTO:-0400
TZNAME:EDT
DTSTART:20260308T070000
END:DAYLIGHT
BEGIN:STANDARD
TZOFFSETFROM:-0400
TZOFFSETTO:-0500
TZNAME:EST
DTSTART:20261101T060000
END:STANDARD
END:VTIMEZONE
BEGIN:VEVENT
DTSTART;TZID=America/New_York:20241003T080000
DTEND;TZID=America/New_York:20241005T170000
DTSTAMP:20260424T064134
CREATED:20240416T145752Z
LAST-MODIFIED:20240416T145752Z
UID:10000959-1727942400-1728147600@lonniepoolegolfcourse.com
SUMMARY:CGA - 29th NC Four-Ball Championship
DESCRIPTION:
URL:https://lonniepoolegolfcourse.com/event/cga-29th-nc-four-ball-championship-2/
END:VEVENT
BEGIN:VEVENT
DTSTART;TZID=America/New_York:20241004T080000
DTEND;TZID=America/New_York:20241005T170000
DTSTAMP:20260424T064134
CREATED:20240416T145810Z
LAST-MODIFIED:20240416T145810Z
UID:10000961-1728028800-1728147600@lonniepoolegolfcourse.com
SUMMARY:CGA - 29th NC Four-Ball Championship
DESCRIPTION:
URL:https://lonniepoolegolfcourse.com/event/cga-29th-nc-four-ball-championship-3/
END:VEVENT
BEGIN:VEVENT
DTSTART;TZID=America/New_York:20241005T080000
DTEND;TZID=America/New_York:20241005T170000
DTSTAMP:20260424T064134
CREATED:20240416T145910Z
LAST-MODIFIED:20240416T145910Z
UID:10000963-1728115200-1728147600@lonniepoolegolfcourse.com
SUMMARY:CGA - 29th NC Four-Ball Championship
DESCRIPTION:
URL:https://lonniepoolegolfcourse.com/event/cga-29th-nc-four-ball-championship-4/
END:VEVENT
BEGIN:VEVENT
DTSTART;TZID=America/New_York:20241007T080000
DTEND;TZID=America/New_York:20241007T170000
DTSTAMP:20260424T064134
CREATED:20240416T145958Z
LAST-MODIFIED:20240416T145958Z
UID:10000964-1728288000-1728320400@lonniepoolegolfcourse.com
SUMMARY:Mabopane Date
DESCRIPTION:
URL:https://lonniepoolegolfcourse.com/event/mabopane-date/
END:VEVENT
BEGIN:VEVENT
DTSTART;TZID=America/New_York:20241010T080000
DTEND;TZID=America/New_York:20241010T080000
DTSTAMP:20260424T064134
CREATED:20240416T150032Z
LAST-MODIFIED:20250826T134819Z
UID:10000966-1728547200-1728547200@lonniepoolegolfcourse.com
SUMMARY:TEP Event
DESCRIPTION:10:00 a.m. Shotgun Start
URL:https://lonniepoolegolfcourse.com/event/tep-event/
END:VEVENT
BEGIN:VEVENT
DTSTART;TZID=America/New_York:20241018T080000
DTEND;TZID=America/New_York:20241018T170000
DTSTAMP:20260424T064134
CREATED:20240514T161604Z
LAST-MODIFIED:20240514T161604Z
UID:10001084-1729238400-1729270800@lonniepoolegolfcourse.com
SUMMARY:ASCE Tournament
DESCRIPTION:
URL:https://lonniepoolegolfcourse.com/event/asce-tournament/
END:VEVENT
BEGIN:VEVENT
DTSTART;TZID=America/New_York:20241021T080000
DTEND;TZID=America/New_York:20241021T170000
DTSTAMP:20260424T064134
CREATED:20240416T150224Z
LAST-MODIFIED:20240416T150224Z
UID:10000968-1729497600-1729530000@lonniepoolegolfcourse.com
SUMMARY:Ronald McDonald House
DESCRIPTION:
URL:https://lonniepoolegolfcourse.com/event/ronald-mcdonald-house-2/
END:VEVENT
BEGIN:VEVENT
DTSTART;TZID=America/New_York:20241028T080000
DTEND;TZID=America/New_York:20241028T080000
DTSTAMP:20260424T064134
CREATED:20240416T150348Z
LAST-MODIFIED:20240416T150348Z
UID:10000972-1730102400-1730102400@lonniepoolegolfcourse.com
SUMMARY:CFMA
DESCRIPTION:
URL:https://lonniepoolegolfcourse.com/event/cfma-2/
END:VEVENT
BEGIN:VEVENT
DTSTART;TZID=America/New_York:20241115T080000
DTEND;TZID=America/New_York:20241115T170000
DTSTAMP:20260424T064134
CREATED:20240416T150555Z
LAST-MODIFIED:20240416T150618Z
UID:10001078-1731657600-1731690000@lonniepoolegolfcourse.com
SUMMARY:NC State Military and Veterans Association Event
DESCRIPTION:
URL:https://lonniepoolegolfcourse.com/event/ncsu-veterans-event/
END:VEVENT
BEGIN:VEVENT
DTSTART;TZID=America/New_York:20241207T080000
DTEND;TZID=America/New_York:20241208T170000
DTSTAMP:20260424T064134
CREATED:20240416T150738Z
LAST-MODIFIED:20240514T161751Z
UID:10001079-1733558400-1733677200@lonniepoolegolfcourse.com
SUMMARY:TGF Junior Tour Championship
DESCRIPTION:
URL:https://lonniepoolegolfcourse.com/event/tgf-junior-tour-championship/
END:VEVENT
BEGIN:VEVENT
DTSTART;TZID=America/New_York:20250125T100000
DTEND;TZID=America/New_York:20250126T100000
DTSTAMP:20260424T064134
CREATED:20250114T142820Z
LAST-MODIFIED:20250114T182404Z
UID:10001087-1737799200-1737885600@lonniepoolegolfcourse.com
SUMMARY:Peggy Kirk Bell Jr Girls Tour
DESCRIPTION:10:00 a.m. Tee Time
URL:https://lonniepoolegolfcourse.com/event/pkb-jr-tour/
END:VEVENT
END:VCALENDAR