BEGIN:VCALENDAR
VERSION:2.0
PRODID:-//Lonnie Poole Golf Course - ECPv6.15.20//NONSGML v1.0//EN
CALSCALE:GREGORIAN
METHOD:PUBLISH
X-ORIGINAL-URL:https://lonniepoolegolfcourse.com
X-WR-CALDESC:Events for Lonnie Poole Golf Course
REFRESH-INTERVAL;VALUE=DURATION:PT1H
X-Robots-Tag:noindex
X-PUBLISHED-TTL:PT1H
BEGIN:VTIMEZONE
TZID:America/New_York
BEGIN:DAYLIGHT
TZOFFSETFROM:-0500
TZOFFSETTO:-0400
TZNAME:EDT
DTSTART:20200308T070000
END:DAYLIGHT
BEGIN:STANDARD
TZOFFSETFROM:-0400
TZOFFSETTO:-0500
TZNAME:EST
DTSTART:20201101T060000
END:STANDARD
BEGIN:DAYLIGHT
TZOFFSETFROM:-0500
TZOFFSETTO:-0400
TZNAME:EDT
DTSTART:20210314T070000
END:DAYLIGHT
BEGIN:STANDARD
TZOFFSETFROM:-0400
TZOFFSETTO:-0500
TZNAME:EST
DTSTART:20211107T060000
END:STANDARD
BEGIN:DAYLIGHT
TZOFFSETFROM:-0500
TZOFFSETTO:-0400
TZNAME:EDT
DTSTART:20220313T070000
END:DAYLIGHT
BEGIN:STANDARD
TZOFFSETFROM:-0400
TZOFFSETTO:-0500
TZNAME:EST
DTSTART:20221106T060000
END:STANDARD
END:VTIMEZONE
BEGIN:VEVENT
DTSTART;TZID=America/New_York:20210306T090000
DTEND;TZID=America/New_York:20210306T133000
DTSTAMP:20260421T125357
CREATED:20210219T154653Z
LAST-MODIFIED:20210219T180636Z
UID:10000874-1615021200-1615037400@lonniepoolegolfcourse.com
SUMMARY:HJGT
DESCRIPTION:LPGC and practice facilities will be closed to host the tournament Saturday and Sunday\, March 6th and 7th. \nPublic tee times begin at 1:30pm
URL:https://lonniepoolegolfcourse.com/event/hjgt/2021-03-06/
END:VEVENT
BEGIN:VEVENT
DTSTART;TZID=America/New_York:20210307T090000
DTEND;TZID=America/New_York:20210307T133000
DTSTAMP:20260421T125357
CREATED:20210219T154653Z
LAST-MODIFIED:20210219T180636Z
UID:10000875-1615107600-1615123800@lonniepoolegolfcourse.com
SUMMARY:HJGT
DESCRIPTION:LPGC and practice facilities will be closed to host the tournament Saturday and Sunday\, March 6th and 7th. \nPublic tee times begin at 1:30pm
URL:https://lonniepoolegolfcourse.com/event/hjgt/2021-03-07/
END:VEVENT
BEGIN:VEVENT
DTSTART;TZID=America/New_York:20210309T080000
DTEND;TZID=America/New_York:20210309T120000
DTSTAMP:20260421T125357
CREATED:20210216T153608Z
LAST-MODIFIED:20210216T153608Z
UID:10000872-1615276800-1615291200@lonniepoolegolfcourse.com
SUMMARY:Divot Day!
DESCRIPTION:Please join us on Tuesday. March 9\, 2021 beginning at 8:00 AM as the “Pack Gives Back”.  Volunteers welcome to join as we sand divots and repair ball marks. Please RSVP by emailing Nick Dillman at ndillman@lonniepoolegoflcourse.com
URL:https://lonniepoolegolfcourse.com/event/divot-day/
END:VEVENT
BEGIN:VEVENT
DTSTART;TZID=America/New_York:20210319T080000
DTEND;TZID=America/New_York:20210319T170000
DTSTAMP:20260421T125357
CREATED:20210219T160643Z
LAST-MODIFIED:20210219T160721Z
UID:10000877-1616140800-1616173200@lonniepoolegolfcourse.com
SUMMARY:NCAA Womens Golf Tournament
DESCRIPTION:The golf course will be closed at 1:30 to prepare for the women’s BIG 4
URL:https://lonniepoolegolfcourse.com/event/ncaa-womens-tournament/
END:VEVENT
BEGIN:VEVENT
DTSTART;TZID=America/New_York:20210320T090000
DTEND;TZID=America/New_York:20210320T170000
DTSTAMP:20260421T125357
CREATED:20210219T160012Z
LAST-MODIFIED:20210219T160356Z
UID:10000876-1616230800-1616259600@lonniepoolegolfcourse.com
SUMMARY:NCAA Womens Golf Tournament
DESCRIPTION:The golf course is proud to host the big four teams in North Carolina including NC State\, UNC\, Duke and Wake Forest. Event tee times are morning and afternoon. \nPublic tee times available from 11:30-12:30. The practice tee will open at 11am.
URL:https://lonniepoolegolfcourse.com/event/big-4-tournament/
END:VEVENT
BEGIN:VEVENT
DTSTART;TZID=America/New_York:20210322T080000
DTEND;TZID=America/New_York:20210325T170000
DTSTAMP:20260421T125357
CREATED:20210219T160931Z
LAST-MODIFIED:20210305T141415Z
UID:10000878-1616400000-1616691600@lonniepoolegolfcourse.com
SUMMARY:Aeration
DESCRIPTION:The golf course will be open for 9 hole loops due to the March aeration.
URL:https://lonniepoolegolfcourse.com/event/aeration/
END:VEVENT
BEGIN:VEVENT
DTSTART;VALUE=DATE:20210329
DTEND;VALUE=DATE:20210402
DTSTAMP:20260421T125357
CREATED:20210219T163140Z
LAST-MODIFIED:20210219T163140Z
UID:10000883-1616976000-1617321599@lonniepoolegolfcourse.com
SUMMARY:NC State Health and Exercise Studies
DESCRIPTION:LPGC will host HESF students Monday-Thursday. Practice tee operations remain normal.
URL:https://lonniepoolegolfcourse.com/event/nc-state-health-and-exercise-studies/2021-03-29/
END:VEVENT
END:VCALENDAR