BEGIN:VCALENDAR
VERSION:2.0
PRODID:-//Lonnie Poole Golf Course - ECPv6.15.20//NONSGML v1.0//EN
CALSCALE:GREGORIAN
METHOD:PUBLISH
X-WR-CALNAME:Lonnie Poole Golf Course
X-ORIGINAL-URL:https://lonniepoolegolfcourse.com
X-WR-CALDESC:Events for Lonnie Poole Golf Course
REFRESH-INTERVAL;VALUE=DURATION:PT1H
X-Robots-Tag:noindex
X-PUBLISHED-TTL:PT1H
BEGIN:VTIMEZONE
TZID:America/New_York
BEGIN:DAYLIGHT
TZOFFSETFROM:-0500
TZOFFSETTO:-0400
TZNAME:EDT
DTSTART:20200308T070000
END:DAYLIGHT
BEGIN:STANDARD
TZOFFSETFROM:-0400
TZOFFSETTO:-0500
TZNAME:EST
DTSTART:20201101T060000
END:STANDARD
BEGIN:DAYLIGHT
TZOFFSETFROM:-0500
TZOFFSETTO:-0400
TZNAME:EDT
DTSTART:20210314T070000
END:DAYLIGHT
BEGIN:STANDARD
TZOFFSETFROM:-0400
TZOFFSETTO:-0500
TZNAME:EST
DTSTART:20211107T060000
END:STANDARD
BEGIN:DAYLIGHT
TZOFFSETFROM:-0500
TZOFFSETTO:-0400
TZNAME:EDT
DTSTART:20220313T070000
END:DAYLIGHT
BEGIN:STANDARD
TZOFFSETFROM:-0400
TZOFFSETTO:-0500
TZNAME:EST
DTSTART:20221106T060000
END:STANDARD
END:VTIMEZONE
BEGIN:VEVENT
DTSTART;VALUE=DATE:20210329
DTEND;VALUE=DATE:20210402
DTSTAMP:20260421T113431
CREATED:20210219T163140Z
LAST-MODIFIED:20210219T163140Z
UID:10000883-1616976000-1617321599@lonniepoolegolfcourse.com
SUMMARY:NC State Health and Exercise Studies
DESCRIPTION:LPGC will host HESF students Monday-Thursday. Practice tee operations remain normal.
URL:https://lonniepoolegolfcourse.com/event/nc-state-health-and-exercise-studies/2021-03-29/
END:VEVENT
BEGIN:VEVENT
DTSTART;VALUE=DATE:20210405
DTEND;VALUE=DATE:20210409
DTSTAMP:20260421T113431
CREATED:20210219T163140Z
LAST-MODIFIED:20210219T163140Z
UID:10000884-1617580800-1617926399@lonniepoolegolfcourse.com
SUMMARY:NC State Health and Exercise Studies
DESCRIPTION:LPGC will host HESF students Monday-Thursday. Practice tee operations remain normal.
URL:https://lonniepoolegolfcourse.com/event/nc-state-health-and-exercise-studies/2021-04-05/
END:VEVENT
BEGIN:VEVENT
DTSTART;VALUE=DATE:20210412
DTEND;VALUE=DATE:20210416
DTSTAMP:20260421T113431
CREATED:20210219T163140Z
LAST-MODIFIED:20210219T163140Z
UID:10000885-1618185600-1618531199@lonniepoolegolfcourse.com
SUMMARY:NC State Health and Exercise Studies
DESCRIPTION:LPGC will host HESF students Monday-Thursday. Practice tee operations remain normal.
URL:https://lonniepoolegolfcourse.com/event/nc-state-health-and-exercise-studies/2021-04-12/
END:VEVENT
BEGIN:VEVENT
DTSTART;VALUE=DATE:20210414
DTEND;VALUE=DATE:20210415
DTSTAMP:20260421T113431
CREATED:20210219T161724Z
LAST-MODIFIED:20210414T111724Z
UID:10000880-1618358400-1618444799@lonniepoolegolfcourse.com
SUMMARY:Wake Monarch Academy Golf Event
DESCRIPTION:LPGC is proud to host Wake Monarch Academy’s golf tournament. Public play begins at 1:00 PM
URL:https://lonniepoolegolfcourse.com/event/wake-monarch-academy-golf-event/
END:VEVENT
BEGIN:VEVENT
DTSTART;TZID=America/New_York:20210415T080000
DTEND;TZID=America/New_York:20210415T120000
DTSTAMP:20260421T113431
CREATED:20210310T192123Z
LAST-MODIFIED:20210310T192123Z
UID:10000902-1618473600-1618488000@lonniepoolegolfcourse.com
SUMMARY:Wolfpack Club
DESCRIPTION:The golf course and practice tee will be closed in the morning to host a private Wolfpack Club golf day.
URL:https://lonniepoolegolfcourse.com/event/wolfpack-club-2/
END:VEVENT
BEGIN:VEVENT
DTSTART;VALUE=DATE:20210417
DTEND;VALUE=DATE:20210419
DTSTAMP:20260421T113431
CREATED:20210219T162208Z
LAST-MODIFIED:20210219T181318Z
UID:10000881-1618617600-1618790399@lonniepoolegolfcourse.com
SUMMARY:Tar Heel Junior Tournament
DESCRIPTION:LPGC will be closed all day to host the Tar Heel Junior Tournament. \nPractice tee opens at 1:30
URL:https://lonniepoolegolfcourse.com/event/tar-heel-junior-tournament/
END:VEVENT
BEGIN:VEVENT
DTSTART;TZID=America/New_York:20210419T080000
DTEND;TZID=America/New_York:20210419T170000
DTSTAMP:20260421T113431
CREATED:20210219T162555Z
LAST-MODIFIED:20210219T162555Z
UID:10000882-1618819200-1618851600@lonniepoolegolfcourse.com
SUMMARY:PGA Playing Ability Test
DESCRIPTION:LPGC is hosting a PGA playing ability test. Golf course operations will remain normal.
URL:https://lonniepoolegolfcourse.com/event/pga-playing-ability-test/
END:VEVENT
BEGIN:VEVENT
DTSTART;TZID=America/New_York:20210428T080000
DTEND;TZID=America/New_York:20210428T170000
DTSTAMP:20260421T113431
CREATED:20210219T163559Z
LAST-MODIFIED:20210219T173643Z
UID:10000886-1619596800-1619629200@lonniepoolegolfcourse.com
SUMMARY:North Carolina Home Builders Association
DESCRIPTION:LPGC is proud to host the NCHBA for a golf match. \nPublic tee times begin at 2:30.
URL:https://lonniepoolegolfcourse.com/event/north-carolina-home-builders-association/
END:VEVENT
BEGIN:VEVENT
DTSTART;TZID=America/New_York:20210430T080000
DTEND;TZID=America/New_York:20210430T170000
DTSTAMP:20260421T113431
CREATED:20210219T163731Z
LAST-MODIFIED:20210219T163945Z
UID:10000887-1619769600-1619802000@lonniepoolegolfcourse.com
SUMMARY:PSE/PGM Tournament
DESCRIPTION:LPGC is proud to host the Paper Science Engineering PGM tournament. \nPublic tee times begin at 2:30
URL:https://lonniepoolegolfcourse.com/event/pse-pgm-tournament/
END:VEVENT
END:VCALENDAR