BEGIN:VCALENDAR
VERSION:2.0
PRODID:-//Lonnie Poole Golf Course - ECPv6.15.20//NONSGML v1.0//EN
CALSCALE:GREGORIAN
METHOD:PUBLISH
X-ORIGINAL-URL:https://lonniepoolegolfcourse.com
X-WR-CALDESC:Events for Lonnie Poole Golf Course
REFRESH-INTERVAL;VALUE=DURATION:PT1H
X-Robots-Tag:noindex
X-PUBLISHED-TTL:PT1H
BEGIN:VTIMEZONE
TZID:America/New_York
BEGIN:DAYLIGHT
TZOFFSETFROM:-0500
TZOFFSETTO:-0400
TZNAME:EDT
DTSTART:20200308T070000
END:DAYLIGHT
BEGIN:STANDARD
TZOFFSETFROM:-0400
TZOFFSETTO:-0500
TZNAME:EST
DTSTART:20201101T060000
END:STANDARD
BEGIN:DAYLIGHT
TZOFFSETFROM:-0500
TZOFFSETTO:-0400
TZNAME:EDT
DTSTART:20210314T070000
END:DAYLIGHT
BEGIN:STANDARD
TZOFFSETFROM:-0400
TZOFFSETTO:-0500
TZNAME:EST
DTSTART:20211107T060000
END:STANDARD
BEGIN:DAYLIGHT
TZOFFSETFROM:-0500
TZOFFSETTO:-0400
TZNAME:EDT
DTSTART:20220313T070000
END:DAYLIGHT
BEGIN:STANDARD
TZOFFSETFROM:-0400
TZOFFSETTO:-0500
TZNAME:EST
DTSTART:20221106T060000
END:STANDARD
END:VTIMEZONE
BEGIN:VEVENT
DTSTART;TZID=America/New_York:20210717T080000
DTEND;TZID=America/New_York:20210718T170000
DTSTAMP:20260420T234723
CREATED:20210219T171557Z
LAST-MODIFIED:20210219T171557Z
UID:10000896-1626508800-1626627600@lonniepoolegolfcourse.com
SUMMARY:PKB Tournament
DESCRIPTION:LPGC is proud to host the PKB golf match. \nTee times starting at 11am.
URL:https://lonniepoolegolfcourse.com/event/pkb-tournament/
END:VEVENT
BEGIN:VEVENT
DTSTART;TZID=America/New_York:20210731T100000
DTEND;TZID=America/New_York:20210731T160000
DTSTAMP:20260420T234723
CREATED:20210629T170341Z
LAST-MODIFIED:20210629T170341Z
UID:10000908-1627725600-1627747200@lonniepoolegolfcourse.com
SUMMARY:Happy Anniversary LPGC!
DESCRIPTION:Please join us for a Saturday Scramble and celebrate the Grand Opening Anniversary of Lonnie Poole Golf Course. All Players MUST register and pay through the golf shop by July 29 at 5:00 PM.
URL:https://lonniepoolegolfcourse.com/event/happy-anniversary-lpgc/
END:VEVENT
END:VCALENDAR