BEGIN:VCALENDAR
VERSION:2.0
PRODID:-//Lonnie Poole Golf Course - ECPv6.15.20//NONSGML v1.0//EN
CALSCALE:GREGORIAN
METHOD:PUBLISH
X-ORIGINAL-URL:https://lonniepoolegolfcourse.com
X-WR-CALDESC:Events for Lonnie Poole Golf Course
REFRESH-INTERVAL;VALUE=DURATION:PT1H
X-Robots-Tag:noindex
X-PUBLISHED-TTL:PT1H
BEGIN:VTIMEZONE
TZID:America/New_York
BEGIN:DAYLIGHT
TZOFFSETFROM:-0500
TZOFFSETTO:-0400
TZNAME:EDT
DTSTART:20190310T070000
END:DAYLIGHT
BEGIN:STANDARD
TZOFFSETFROM:-0400
TZOFFSETTO:-0500
TZNAME:EST
DTSTART:20191103T060000
END:STANDARD
BEGIN:DAYLIGHT
TZOFFSETFROM:-0500
TZOFFSETTO:-0400
TZNAME:EDT
DTSTART:20200308T070000
END:DAYLIGHT
BEGIN:STANDARD
TZOFFSETFROM:-0400
TZOFFSETTO:-0500
TZNAME:EST
DTSTART:20201101T060000
END:STANDARD
BEGIN:DAYLIGHT
TZOFFSETFROM:-0500
TZOFFSETTO:-0400
TZNAME:EDT
DTSTART:20210314T070000
END:DAYLIGHT
BEGIN:STANDARD
TZOFFSETFROM:-0400
TZOFFSETTO:-0500
TZNAME:EST
DTSTART:20211107T060000
END:STANDARD
END:VTIMEZONE
BEGIN:VEVENT
DTSTART;TZID=America/New_York:20200810T160000
DTEND;TZID=America/New_York:20200810T180000
DTSTAMP:20260425T063057
CREATED:20200229T150254Z
LAST-MODIFIED:20200229T150254Z
UID:10000713-1597075200-1597082400@lonniepoolegolfcourse.com
SUMMARY:Monday Night League
DESCRIPTION:9 hole Monday Night League. Call the golf shop to register!
URL:https://lonniepoolegolfcourse.com/event/monday-night-league/2020-08-10/
END:VEVENT
BEGIN:VEVENT
DTSTART;TZID=America/New_York:20200810T170000
DTEND;TZID=America/New_York:20200810T170000
DTSTAMP:20260425T063057
CREATED:20200229T145115Z
LAST-MODIFIED:20200312T165006Z
UID:10000684-1597078800-1597078800@lonniepoolegolfcourse.com
SUMMARY:Clean Pick - Practice Tee Closing Early
DESCRIPTION:The practice tee will close early to complete clean pick maintenance. Please call the golf shop for last ball sold information.
URL:https://lonniepoolegolfcourse.com/event/clean-pick-practice-closing-early/2020-08-10/
END:VEVENT
BEGIN:VEVENT
DTSTART;TZID=America/New_York:20200814T160000
DTEND;TZID=America/New_York:20200814T180000
DTSTAMP:20260425T063057
CREATED:20200229T150402Z
LAST-MODIFIED:20200229T150402Z
UID:10000735-1597420800-1597428000@lonniepoolegolfcourse.com
SUMMARY:Friday Night League
DESCRIPTION:9-hole Friday Night League. Call the Golf Shop to register!
URL:https://lonniepoolegolfcourse.com/event/friday-night-league/2020-08-14/
END:VEVENT
END:VCALENDAR