BEGIN:VCALENDAR
VERSION:2.0
PRODID:-//Lonnie Poole Golf Course - ECPv6.15.20//NONSGML v1.0//EN
CALSCALE:GREGORIAN
METHOD:PUBLISH
X-WR-CALNAME:Lonnie Poole Golf Course
X-ORIGINAL-URL:https://lonniepoolegolfcourse.com
X-WR-CALDESC:Events for Lonnie Poole Golf Course
REFRESH-INTERVAL;VALUE=DURATION:PT1H
X-Robots-Tag:noindex
X-PUBLISHED-TTL:PT1H
BEGIN:VTIMEZONE
TZID:America/New_York
BEGIN:DAYLIGHT
TZOFFSETFROM:-0500
TZOFFSETTO:-0400
TZNAME:EDT
DTSTART:20190310T070000
END:DAYLIGHT
BEGIN:STANDARD
TZOFFSETFROM:-0400
TZOFFSETTO:-0500
TZNAME:EST
DTSTART:20191103T060000
END:STANDARD
BEGIN:DAYLIGHT
TZOFFSETFROM:-0500
TZOFFSETTO:-0400
TZNAME:EDT
DTSTART:20200308T070000
END:DAYLIGHT
BEGIN:STANDARD
TZOFFSETFROM:-0400
TZOFFSETTO:-0500
TZNAME:EST
DTSTART:20201101T060000
END:STANDARD
BEGIN:DAYLIGHT
TZOFFSETFROM:-0500
TZOFFSETTO:-0400
TZNAME:EDT
DTSTART:20210314T070000
END:DAYLIGHT
BEGIN:STANDARD
TZOFFSETFROM:-0400
TZOFFSETTO:-0500
TZNAME:EST
DTSTART:20211107T060000
END:STANDARD
END:VTIMEZONE
BEGIN:VEVENT
DTSTART;TZID=America/New_York:20200921T160000
DTEND;TZID=America/New_York:20200921T183000
DTSTAMP:20260423T101926
CREATED:20200921T120213Z
LAST-MODIFIED:20200921T120213Z
UID:10000741-1600704000-1600713000@lonniepoolegolfcourse.com
SUMMARY:Lonnie Poole Little League
DESCRIPTION:Junior Practice 4pm-630pm. Practice Tee will be limited access.
URL:https://lonniepoolegolfcourse.com/event/lonnie-poole-little-league/2020-09-21/
END:VEVENT
BEGIN:VEVENT
DTSTART;TZID=America/New_York:20200921T170000
DTEND;TZID=America/New_York:20200921T170000
DTSTAMP:20260423T101926
CREATED:20200229T145115Z
LAST-MODIFIED:20200312T165006Z
UID:10000690-1600707600-1600707600@lonniepoolegolfcourse.com
SUMMARY:Clean Pick - Practice Tee Closing Early
DESCRIPTION:The practice tee will close early to complete clean pick maintenance. Please call the golf shop for last ball sold information.
URL:https://lonniepoolegolfcourse.com/event/clean-pick-practice-closing-early/2020-09-21/
END:VEVENT
BEGIN:VEVENT
DTSTART;TZID=America/New_York:20200922T160000
DTEND;TZID=America/New_York:20200922T183000
DTSTAMP:20260423T101926
CREATED:20200921T120213Z
LAST-MODIFIED:20200921T120213Z
UID:10000742-1600790400-1600799400@lonniepoolegolfcourse.com
SUMMARY:Lonnie Poole Little League
DESCRIPTION:Junior Practice 4pm-630pm. Practice Tee will be limited access.
URL:https://lonniepoolegolfcourse.com/event/lonnie-poole-little-league/2020-09-22/
END:VEVENT
BEGIN:VEVENT
DTSTART;TZID=America/New_York:20200923T160000
DTEND;TZID=America/New_York:20200923T183000
DTSTAMP:20260423T101926
CREATED:20200921T120213Z
LAST-MODIFIED:20200921T120213Z
UID:10000743-1600876800-1600885800@lonniepoolegolfcourse.com
SUMMARY:Lonnie Poole Little League
DESCRIPTION:Junior Practice 4pm-630pm. Practice Tee will be limited access.
URL:https://lonniepoolegolfcourse.com/event/lonnie-poole-little-league/2020-09-23/
END:VEVENT
BEGIN:VEVENT
DTSTART;TZID=America/New_York:20200924T160000
DTEND;TZID=America/New_York:20200924T183000
DTSTAMP:20260423T101926
CREATED:20200921T120213Z
LAST-MODIFIED:20200921T120213Z
UID:10000744-1600963200-1600972200@lonniepoolegolfcourse.com
SUMMARY:Lonnie Poole Little League
DESCRIPTION:Junior Practice 4pm-630pm. Practice Tee will be limited access.
URL:https://lonniepoolegolfcourse.com/event/lonnie-poole-little-league/2020-09-24/
END:VEVENT
BEGIN:VEVENT
DTSTART;TZID=America/New_York:20200925T160000
DTEND;TZID=America/New_York:20200925T183000
DTSTAMP:20260423T101926
CREATED:20200921T120213Z
LAST-MODIFIED:20200921T120213Z
UID:10000745-1601049600-1601058600@lonniepoolegolfcourse.com
SUMMARY:Lonnie Poole Little League
DESCRIPTION:Junior Practice 4pm-630pm. Practice Tee will be limited access.
URL:https://lonniepoolegolfcourse.com/event/lonnie-poole-little-league/2020-09-25/
END:VEVENT
END:VCALENDAR