BEGIN:VCALENDAR
VERSION:2.0
PRODID:-//Lonnie Poole Golf Course - ECPv6.15.20//NONSGML v1.0//EN
CALSCALE:GREGORIAN
METHOD:PUBLISH
X-WR-CALNAME:Lonnie Poole Golf Course
X-ORIGINAL-URL:https://lonniepoolegolfcourse.com
X-WR-CALDESC:Events for Lonnie Poole Golf Course
REFRESH-INTERVAL;VALUE=DURATION:PT1H
X-Robots-Tag:noindex
X-PUBLISHED-TTL:PT1H
BEGIN:VTIMEZONE
TZID:America/New_York
BEGIN:DAYLIGHT
TZOFFSETFROM:-0500
TZOFFSETTO:-0400
TZNAME:EDT
DTSTART:20190310T070000
END:DAYLIGHT
BEGIN:STANDARD
TZOFFSETFROM:-0400
TZOFFSETTO:-0500
TZNAME:EST
DTSTART:20191103T060000
END:STANDARD
BEGIN:DAYLIGHT
TZOFFSETFROM:-0500
TZOFFSETTO:-0400
TZNAME:EDT
DTSTART:20200308T070000
END:DAYLIGHT
BEGIN:STANDARD
TZOFFSETFROM:-0400
TZOFFSETTO:-0500
TZNAME:EST
DTSTART:20201101T060000
END:STANDARD
BEGIN:DAYLIGHT
TZOFFSETFROM:-0500
TZOFFSETTO:-0400
TZNAME:EDT
DTSTART:20210314T070000
END:DAYLIGHT
BEGIN:STANDARD
TZOFFSETFROM:-0400
TZOFFSETTO:-0500
TZNAME:EST
DTSTART:20211107T060000
END:STANDARD
END:VTIMEZONE
BEGIN:VEVENT
DTSTART;TZID=America/New_York:20201019T160000
DTEND;TZID=America/New_York:20201019T183000
DTSTAMP:20260423T073058
CREATED:20200921T120213Z
LAST-MODIFIED:20200921T120213Z
UID:10000761-1603123200-1603132200@lonniepoolegolfcourse.com
SUMMARY:Lonnie Poole Little League
DESCRIPTION:Junior Practice 4pm-630pm. Practice Tee will be limited access.
URL:https://lonniepoolegolfcourse.com/event/lonnie-poole-little-league/2020-10-19/
END:VEVENT
BEGIN:VEVENT
DTSTART;TZID=America/New_York:20201019T170000
DTEND;TZID=America/New_York:20201019T170000
DTSTAMP:20260423T073058
CREATED:20200229T145115Z
LAST-MODIFIED:20200312T165006Z
UID:10000694-1603126800-1603126800@lonniepoolegolfcourse.com
SUMMARY:Clean Pick - Practice Tee Closing Early
DESCRIPTION:The practice tee will close early to complete clean pick maintenance. Please call the golf shop for last ball sold information.
URL:https://lonniepoolegolfcourse.com/event/clean-pick-practice-closing-early/2020-10-19/
END:VEVENT
BEGIN:VEVENT
DTSTART;TZID=America/New_York:20201020T160000
DTEND;TZID=America/New_York:20201020T183000
DTSTAMP:20260423T073058
CREATED:20200921T120213Z
LAST-MODIFIED:20200921T120213Z
UID:10000762-1603209600-1603218600@lonniepoolegolfcourse.com
SUMMARY:Lonnie Poole Little League
DESCRIPTION:Junior Practice 4pm-630pm. Practice Tee will be limited access.
URL:https://lonniepoolegolfcourse.com/event/lonnie-poole-little-league/2020-10-20/
END:VEVENT
BEGIN:VEVENT
DTSTART;TZID=America/New_York:20201021T160000
DTEND;TZID=America/New_York:20201021T183000
DTSTAMP:20260423T073058
CREATED:20200921T120213Z
LAST-MODIFIED:20200921T120213Z
UID:10000763-1603296000-1603305000@lonniepoolegolfcourse.com
SUMMARY:Lonnie Poole Little League
DESCRIPTION:Junior Practice 4pm-630pm. Practice Tee will be limited access.
URL:https://lonniepoolegolfcourse.com/event/lonnie-poole-little-league/2020-10-21/
END:VEVENT
BEGIN:VEVENT
DTSTART;TZID=America/New_York:20201022T160000
DTEND;TZID=America/New_York:20201022T183000
DTSTAMP:20260423T073058
CREATED:20200921T120213Z
LAST-MODIFIED:20200921T120213Z
UID:10000764-1603382400-1603391400@lonniepoolegolfcourse.com
SUMMARY:Lonnie Poole Little League
DESCRIPTION:Junior Practice 4pm-630pm. Practice Tee will be limited access.
URL:https://lonniepoolegolfcourse.com/event/lonnie-poole-little-league/2020-10-22/
END:VEVENT
BEGIN:VEVENT
DTSTART;TZID=America/New_York:20201023T160000
DTEND;TZID=America/New_York:20201023T183000
DTSTAMP:20260423T073058
CREATED:20200921T120213Z
LAST-MODIFIED:20200921T120213Z
UID:10000765-1603468800-1603477800@lonniepoolegolfcourse.com
SUMMARY:Lonnie Poole Little League
DESCRIPTION:Junior Practice 4pm-630pm. Practice Tee will be limited access.
URL:https://lonniepoolegolfcourse.com/event/lonnie-poole-little-league/2020-10-23/
END:VEVENT
BEGIN:VEVENT
DTSTART;TZID=America/New_York:20201024T150000
DTEND;TZID=America/New_York:20201024T190000
DTSTAMP:20260423T073058
CREATED:20200921T120353Z
LAST-MODIFIED:20200921T120448Z
UID:10000769-1603551600-1603566000@lonniepoolegolfcourse.com
SUMMARY:LPLL Match
DESCRIPTION:LPLL Match – Afternoon tee times limited due to event
URL:https://lonniepoolegolfcourse.com/event/lpll-match/2020-10-24/
END:VEVENT
END:VCALENDAR