BEGIN:VCALENDAR
VERSION:2.0
PRODID:-//Lonnie Poole Golf Course - ECPv6.15.20//NONSGML v1.0//EN
CALSCALE:GREGORIAN
METHOD:PUBLISH
X-ORIGINAL-URL:https://lonniepoolegolfcourse.com
X-WR-CALDESC:Events for Lonnie Poole Golf Course
REFRESH-INTERVAL;VALUE=DURATION:PT1H
X-Robots-Tag:noindex
X-PUBLISHED-TTL:PT1H
BEGIN:VTIMEZONE
TZID:America/New_York
BEGIN:DAYLIGHT
TZOFFSETFROM:-0500
TZOFFSETTO:-0400
TZNAME:EDT
DTSTART:20190310T070000
END:DAYLIGHT
BEGIN:STANDARD
TZOFFSETFROM:-0400
TZOFFSETTO:-0500
TZNAME:EST
DTSTART:20191103T060000
END:STANDARD
BEGIN:DAYLIGHT
TZOFFSETFROM:-0500
TZOFFSETTO:-0400
TZNAME:EDT
DTSTART:20200308T070000
END:DAYLIGHT
BEGIN:STANDARD
TZOFFSETFROM:-0400
TZOFFSETTO:-0500
TZNAME:EST
DTSTART:20201101T060000
END:STANDARD
BEGIN:DAYLIGHT
TZOFFSETFROM:-0500
TZOFFSETTO:-0400
TZNAME:EDT
DTSTART:20210314T070000
END:DAYLIGHT
BEGIN:STANDARD
TZOFFSETFROM:-0400
TZOFFSETTO:-0500
TZNAME:EST
DTSTART:20211107T060000
END:STANDARD
END:VTIMEZONE
BEGIN:VEVENT
DTSTART;TZID=America/New_York:20201026T170000
DTEND;TZID=America/New_York:20201026T170000
DTSTAMP:20260423T051547
CREATED:20200229T145115Z
LAST-MODIFIED:20200312T165006Z
UID:10000695-1603731600-1603731600@lonniepoolegolfcourse.com
SUMMARY:Clean Pick - Practice Tee Closing Early
DESCRIPTION:The practice tee will close early to complete clean pick maintenance. Please call the golf shop for last ball sold information.
URL:https://lonniepoolegolfcourse.com/event/clean-pick-practice-closing-early/2020-10-26/
END:VEVENT
BEGIN:VEVENT
DTSTART;TZID=America/New_York:20201030T110000
DTEND;TZID=America/New_York:20201030T180000
DTSTAMP:20260423T051547
CREATED:20201017T131333Z
LAST-MODIFIED:20201017T131600Z
UID:10000864-1604055600-1604080800@lonniepoolegolfcourse.com
SUMMARY:GCAA College Tournament Practice Rounds
DESCRIPTION:The golf course will be closed in the afternoon in preparation to host the GCAA event October 31- November 1
URL:https://lonniepoolegolfcourse.com/event/gcaa-college-tournament/
END:VEVENT
BEGIN:VEVENT
DTSTART;VALUE=DATE:20201031
DTEND;VALUE=DATE:20201102
DTSTAMP:20260423T051547
CREATED:20201017T131520Z
LAST-MODIFIED:20201017T131520Z
UID:10000866-1604102400-1604275199@lonniepoolegolfcourse.com
SUMMARY:GCAA College Tournament
DESCRIPTION:The golf course will be closed October 31 and November 1 to host the GCAA Gollege Tournament Series.
URL:https://lonniepoolegolfcourse.com/event/gcaa-college-tournament-2/
END:VEVENT
END:VCALENDAR