BEGIN:VCALENDAR
VERSION:2.0
PRODID:-//Lonnie Poole Golf Course - ECPv6.15.20//NONSGML v1.0//EN
CALSCALE:GREGORIAN
METHOD:PUBLISH
X-ORIGINAL-URL:https://lonniepoolegolfcourse.com
X-WR-CALDESC:Events for Lonnie Poole Golf Course
REFRESH-INTERVAL;VALUE=DURATION:PT1H
X-Robots-Tag:noindex
X-PUBLISHED-TTL:PT1H
BEGIN:VTIMEZONE
TZID:America/New_York
BEGIN:DAYLIGHT
TZOFFSETFROM:-0500
TZOFFSETTO:-0400
TZNAME:EDT
DTSTART:20200308T070000
END:DAYLIGHT
BEGIN:STANDARD
TZOFFSETFROM:-0400
TZOFFSETTO:-0500
TZNAME:EST
DTSTART:20201101T060000
END:STANDARD
BEGIN:DAYLIGHT
TZOFFSETFROM:-0500
TZOFFSETTO:-0400
TZNAME:EDT
DTSTART:20210314T070000
END:DAYLIGHT
BEGIN:STANDARD
TZOFFSETFROM:-0400
TZOFFSETTO:-0500
TZNAME:EST
DTSTART:20211107T060000
END:STANDARD
BEGIN:DAYLIGHT
TZOFFSETFROM:-0500
TZOFFSETTO:-0400
TZNAME:EDT
DTSTART:20220313T070000
END:DAYLIGHT
BEGIN:STANDARD
TZOFFSETFROM:-0400
TZOFFSETTO:-0500
TZNAME:EST
DTSTART:20221106T060000
END:STANDARD
END:VTIMEZONE
BEGIN:VEVENT
DTSTART;TZID=America/New_York:20210606T110000
DTEND;TZID=America/New_York:20210606T143000
DTSTAMP:20260421T182430
CREATED:20210219T165741Z
LAST-MODIFIED:20210219T170134Z
UID:10000892-1622977200-1622989800@lonniepoolegolfcourse.com
SUMMARY:LPGA Amateur
DESCRIPTION:LPGC is proud to host the Lady PGA amateur’s with tee times beginning at 11am.
URL:https://lonniepoolegolfcourse.com/event/lpga-amateur/
END:VEVENT
BEGIN:VEVENT
DTSTART;TZID=America/New_York:20210608T080000
DTEND;TZID=America/New_York:20210608T120000
DTSTAMP:20260421T182430
CREATED:20210513T145219Z
LAST-MODIFIED:20210513T145219Z
UID:10000905-1623139200-1623153600@lonniepoolegolfcourse.com
SUMMARY:Divot Day
DESCRIPTION:Please join us on Tuesday\, June 8th as we sand divots and replace ball marks. Volunteers are welcome to join so that everyone can continue to leave no trace on the golf course! \nRSVP by emailing Nick Dillman at ndillman@lonniepoolegolfcourse.com
URL:https://lonniepoolegolfcourse.com/event/divot-day-2/
END:VEVENT
END:VCALENDAR