BEGIN:VCALENDAR
VERSION:2.0
PRODID:-//Lonnie Poole Golf Course - ECPv6.15.20//NONSGML v1.0//EN
CALSCALE:GREGORIAN
METHOD:PUBLISH
X-WR-CALNAME:Lonnie Poole Golf Course
X-ORIGINAL-URL:https://lonniepoolegolfcourse.com
X-WR-CALDESC:Events for Lonnie Poole Golf Course
REFRESH-INTERVAL;VALUE=DURATION:PT1H
X-Robots-Tag:noindex
X-PUBLISHED-TTL:PT1H
BEGIN:VTIMEZONE
TZID:America/New_York
BEGIN:DAYLIGHT
TZOFFSETFROM:-0500
TZOFFSETTO:-0400
TZNAME:EDT
DTSTART:20200308T070000
END:DAYLIGHT
BEGIN:STANDARD
TZOFFSETFROM:-0400
TZOFFSETTO:-0500
TZNAME:EST
DTSTART:20201101T060000
END:STANDARD
BEGIN:DAYLIGHT
TZOFFSETFROM:-0500
TZOFFSETTO:-0400
TZNAME:EDT
DTSTART:20210314T070000
END:DAYLIGHT
BEGIN:STANDARD
TZOFFSETFROM:-0400
TZOFFSETTO:-0500
TZNAME:EST
DTSTART:20211107T060000
END:STANDARD
BEGIN:DAYLIGHT
TZOFFSETFROM:-0500
TZOFFSETTO:-0400
TZNAME:EDT
DTSTART:20220313T070000
END:DAYLIGHT
BEGIN:STANDARD
TZOFFSETFROM:-0400
TZOFFSETTO:-0500
TZNAME:EST
DTSTART:20221106T060000
END:STANDARD
END:VTIMEZONE
BEGIN:VEVENT
DTSTART;VALUE=DATE:20210813
DTEND;VALUE=DATE:20210814
DTSTAMP:20260422T075703
CREATED:20210728T133433Z
LAST-MODIFIED:20210728T133836Z
UID:10000909-1628812800-1628899199@lonniepoolegolfcourse.com
SUMMARY:NCSU Military Services Welcome Back Golf Tournament
DESCRIPTION:The golf course and practice facilities will be closed to host a private event. Please call the golf shop\, 919-515-6527\, for afternoon tee time and practice availability.
URL:https://lonniepoolegolfcourse.com/event/ncsu-military-services-welcome-back-golf-tournament/
END:VEVENT
BEGIN:VEVENT
DTSTART;TZID=America/New_York:20210814T080000
DTEND;TZID=America/New_York:20210815T170000
DTSTAMP:20260422T075703
CREATED:20210219T171837Z
LAST-MODIFIED:20210219T181739Z
UID:10000897-1628928000-1629046800@lonniepoolegolfcourse.com
SUMMARY:Lonnie Poole Little League Summer Final Match
DESCRIPTION:LPGC is proud to host the LPLL golf match. Tee times begin at 3:30pm.
URL:https://lonniepoolegolfcourse.com/event/lpll-summer-final-match/
END:VEVENT
END:VCALENDAR